BEGIN:VCALENDAR
VERSION:2.0
PRODID:-//Antiparos island, Greece - Antiparos.com - ECPv6.13.0//NONSGML v1.0//EN
CALSCALE:GREGORIAN
METHOD:PUBLISH
X-WR-CALNAME:Antiparos island, Greece - Antiparos.com
X-ORIGINAL-URL:https://antiparos.com
X-WR-CALDESC:Events for Antiparos island, Greece - Antiparos.com
REFRESH-INTERVAL;VALUE=DURATION:PT1H
X-Robots-Tag:noindex
X-PUBLISHED-TTL:PT1H
BEGIN:VTIMEZONE
TZID:Europe/Moscow
BEGIN:STANDARD
TZOFFSETFROM:+0300
TZOFFSETTO:+0300
TZNAME:MSK
DTSTART:20170101T000000
END:STANDARD
END:VTIMEZONE
BEGIN:VEVENT
DTSTART;TZID=Europe/Moscow:20170827T223000
DTEND;TZID=Europe/Moscow:20170827T223000
DTSTAMP:20260424T012307
CREATED:20170821T123200Z
LAST-MODIFIED:20170821T123200Z
UID:30240-1503873000-1503873000@antiparos.com
SUMMARY:CINE OLIAROS: Chinatown (1974)
DESCRIPTION:Today’s Movie: CINE OLIAROS: Chinatown (1974) \nMovie screening starts at 22:30 and entrance in this Antiparos cinema is free. \n\n\n\n\nMost movies are in English with Greek subtitles. \nFor all Antiparos events this summer please click here.
URL:https://antiparos.com/event/cine-oliaros-chinatown-1974/
CATEGORIES:Cinema
ATTACH;FMTTYPE=image/jpeg:https://antiparos.com/wp-content/uploads/2017/06/main.jpg
END:VEVENT
END:VCALENDAR