BEGIN:VCALENDAR
VERSION:2.0
PRODID:-//Antiparos island, Greece - Antiparos.com - ECPv6.13.0//NONSGML v1.0//EN
CALSCALE:GREGORIAN
METHOD:PUBLISH
X-ORIGINAL-URL:https://antiparos.com
X-WR-CALDESC:Events for Antiparos island, Greece - Antiparos.com
REFRESH-INTERVAL;VALUE=DURATION:PT1H
X-Robots-Tag:noindex
X-PUBLISHED-TTL:PT1H
BEGIN:VTIMEZONE
TZID:Europe/Moscow
BEGIN:STANDARD
TZOFFSETFROM:+0300
TZOFFSETTO:+0300
TZNAME:MSK
DTSTART:20170101T000000
END:STANDARD
END:VTIMEZONE
BEGIN:VEVENT
DTSTART;TZID=Europe/Moscow:20170816T223000
DTEND;TZID=Europe/Moscow:20170816T223000
DTSTAMP:20260421T185928
CREATED:20170814T171723Z
LAST-MODIFIED:20170814T171723Z
UID:30204-1502922600-1502922600@antiparos.com
SUMMARY:CINE OLIAROS: Todo sobre mi madre (1999)
DESCRIPTION:Today’s Movie: CINE OLIAROS: Todo sobre mi madre (1999) \nMovie screening starts at 22:30 and entrance is free. \n\n\n\n\nIn general most movies are in English with Greek subtitles. \nFor all Antiparos events this summer please click here.
URL:https://antiparos.com/event/cine-oliaros-todo-sobre-mi-madre-1999/
CATEGORIES:Cinema
ATTACH;FMTTYPE=image/jpeg:https://antiparos.com/wp-content/uploads/2017/06/main.jpg
END:VEVENT
BEGIN:VEVENT
DTSTART;TZID=Europe/Moscow:20170816T204500
DTEND;TZID=Europe/Moscow:20170816T204500
DTSTAMP:20260421T185928
CREATED:20170815T085058Z
LAST-MODIFIED:20170815T085058Z
UID:30216-1502916300-1502916300@antiparos.com
SUMMARY:CINE OLIAROS: Children's movie
DESCRIPTION:Today’s Movie: CINE OLIAROS: Children’s movie \nMovie screening starts at 20:45 and entrance is free. \n\n\n\n\nIn general most movies are in English with Greek subtitles. \nFor all Antiparos events this summer please click here.
URL:https://antiparos.com/event/cine-oliaros-childrens-movie-2/
CATEGORIES:Cinema
ATTACH;FMTTYPE=image/jpeg:https://antiparos.com/wp-content/uploads/2017/06/main.jpg
END:VEVENT
BEGIN:VEVENT
DTSTART;TZID=Europe/Moscow:20170815T223000
DTEND;TZID=Europe/Moscow:20170815T223000
DTSTAMP:20260421T185928
CREATED:20170814T171608Z
LAST-MODIFIED:20170814T171608Z
UID:30202-1502836200-1502836200@antiparos.com
SUMMARY:CINE OLIAROS: Annie Hall (1977)
DESCRIPTION:Today’s Movie: CINE OLIAROS: Annie Hall (1977) \nMovie screening starts at 22:30 and entrance is free. \n\n\n\n\nIn general most movies are in English with Greek subtitles. \nFor all Antiparos events this summer please click here.
URL:https://antiparos.com/event/cine-oliaros-annie-hall-1977/
CATEGORIES:Cinema
ATTACH;FMTTYPE=image/jpeg:https://antiparos.com/wp-content/uploads/2017/06/main.jpg
END:VEVENT
BEGIN:VEVENT
DTSTART;TZID=Europe/Moscow:20170814T223000
DTEND;TZID=Europe/Moscow:20170814T223000
DTSTAMP:20260421T185928
CREATED:20170814T171404Z
LAST-MODIFIED:20170814T171404Z
UID:30199-1502749800-1502749800@antiparos.com
SUMMARY:CINE OLIAROS: Casablanca (1942)
DESCRIPTION:Today’s Movie: CINE OLIAROS: Casablanca (1942) \nMovie screening starts at 22:30 and entrance is free. \n\n\n\n\nIn general most movies are in English with Greek subtitles. \nFor all Antiparos events this summer please click here.
URL:https://antiparos.com/event/cine-oliaros-casablanca-1942/
CATEGORIES:Cinema
ATTACH;FMTTYPE=image/jpeg:https://antiparos.com/wp-content/uploads/2017/06/main.jpg
END:VEVENT
BEGIN:VEVENT
DTSTART;TZID=Europe/Moscow:20170814T204500
DTEND;TZID=Europe/Moscow:20170814T204500
DTSTAMP:20260421T185928
CREATED:20170815T084943Z
LAST-MODIFIED:20170815T084943Z
UID:30214-1502743500-1502743500@antiparos.com
SUMMARY:CINE OLIAROS: Children's movie
DESCRIPTION:Today’s Movie: CINE OLIAROS: Children’s movie \nMovie screening starts at 20:45 and entrance is free. \n\n\n\n\nIn general most movies are in English with Greek subtitles. \nFor all Antiparos events this summer please click here.
URL:https://antiparos.com/event/cine-oliaros-childrens-movie/
CATEGORIES:Cinema
ATTACH;FMTTYPE=image/jpeg:https://antiparos.com/wp-content/uploads/2017/06/main.jpg
END:VEVENT
BEGIN:VEVENT
DTSTART;TZID=Europe/Moscow:20170811T223000
DTEND;TZID=Europe/Moscow:20170811T223000
DTSTAMP:20260421T185928
CREATED:20170807T163348Z
LAST-MODIFIED:20190411T002559Z
UID:30183-1502490600-1502490600@antiparos.com
SUMMARY:CINE OLIAROS: The Graduate (1967)
DESCRIPTION:Today’s Movie at CINE OLIAROS in Antiparos island\, Cyclades\, Greece: \nThe Graduate (1967) \n\n\n\n\nMovie screening starts at 22:30 and entrance is free. \nIn general most movies are in English with Greek subtitles. \nFor all Antiparos cinema information and all Antiparos events this summer please click here.
URL:https://antiparos.com/event/cine-oliaros-the-graduate-1967/
LOCATION:CINE OLIAROS
CATEGORIES:Cinema
ATTACH;FMTTYPE=image/jpeg:https://antiparos.com/wp-content/uploads/2017/06/main.jpg
END:VEVENT
BEGIN:VEVENT
DTSTART;TZID=Europe/Moscow:20170810T223000
DTEND;TZID=Europe/Moscow:20170810T223000
DTSTAMP:20260421T185928
CREATED:20170807T162828Z
LAST-MODIFIED:20190411T002613Z
UID:30181-1502404200-1502404200@antiparos.com
SUMMARY:CINE OLIAROS: Good bye\, Lenin! (2003)
DESCRIPTION:Today’s Movie: CINE OLIAROS: Good bye\, Lenin! (2003) \nMovie screening starts at 22:30 and entrance is free. \n\n\n\n\nIn general most movies are in English with Greek subtitles. \nFor all Antiparos events this summer please click here.
URL:https://antiparos.com/event/cine-oliaros-good-bye-lenin-2003/
LOCATION:CINE OLIAROS
CATEGORIES:Cinema
ATTACH;FMTTYPE=image/jpeg:https://antiparos.com/wp-content/uploads/2017/06/main.jpg
END:VEVENT
BEGIN:VEVENT
DTSTART;TZID=Europe/Moscow:20170809T223000
DTEND;TZID=Europe/Moscow:20170809T223000
DTSTAMP:20260421T185928
CREATED:20170807T162630Z
LAST-MODIFIED:20210501T225513Z
UID:30179-1502317800-1502317800@antiparos.com
SUMMARY:CINE OLIAROS: Gilda (1946)
DESCRIPTION:Today’s Movie: CINE OLIAROS: Gilda (1946) \nMovie screening starts at 22:30 and entrance is free. \n\n\n\n\nIn general most movies are in English with Greek subtitles. \nFor all Antiparos events this summer please click here.
URL:https://antiparos.com/event/cine-oliaros-gilda-1946/
LOCATION:CINE OLIAROS
CATEGORIES:Cinema
ATTACH;FMTTYPE=image/jpeg:https://antiparos.com/wp-content/uploads/2017/06/main.jpg
END:VEVENT
BEGIN:VEVENT
DTSTART;TZID=Europe/Moscow:20170808T223000
DTEND;TZID=Europe/Moscow:20170808T223000
DTSTAMP:20260421T185928
CREATED:20170807T162430Z
LAST-MODIFIED:20170807T162430Z
UID:30177-1502231400-1502231400@antiparos.com
SUMMARY:CINE OLIAROS: Fargo (1996)
DESCRIPTION:Today’s Movie: CINE OLIAROS: Fargo (1996) \nMovie screening starts at 22:30 and entrance is free. \n\n\n\n\nIn general most movies are in English with Greek subtitles. \nFor all Antiparos events this summer please click here.
URL:https://antiparos.com/event/cine-oliaros-fargo-1996/
CATEGORIES:Cinema
ATTACH;FMTTYPE=image/jpeg:https://antiparos.com/wp-content/uploads/2017/06/main.jpg
END:VEVENT
BEGIN:VEVENT
DTSTART;TZID=Europe/Moscow:20170807T223000
DTEND;TZID=Europe/Moscow:20170807T223000
DTSTAMP:20260421T185928
CREATED:20170807T162203Z
LAST-MODIFIED:20170807T162203Z
UID:30175-1502145000-1502145000@antiparos.com
SUMMARY:CINE OLIAROS: Closer (2004)
DESCRIPTION:Today’s Movie: CINE OLIAROS: Closer (2004) \nMovie screening starts at 22:30 and entrance is free. \n\n\n\n\nIn general most movies are in English with Greek subtitles. \nFor all Antiparos events this summer please click here.
URL:https://antiparos.com/event/cine-oliaros-closer-2004/
CATEGORIES:Cinema
ATTACH;FMTTYPE=image/jpeg:https://antiparos.com/wp-content/uploads/2017/06/main.jpg
END:VEVENT
BEGIN:VEVENT
DTSTART;TZID=Europe/Moscow:20170806T223000
DTEND;TZID=Europe/Moscow:20170806T223000
DTSTAMP:20260421T185928
CREATED:20170801T102501Z
LAST-MODIFIED:20170801T102501Z
UID:30137-1502058600-1502058600@antiparos.com
SUMMARY:CINE OLIAROS: Easy Rider (1969)
DESCRIPTION:Today’s Movie: CINE OLIAROS: Easy Rider (1969) \nMovie screening starts at 22:30 and entrance is free. \n\n\n\n\nIn general most movies are in English with Greek subtitles. \nFor all Antiparos events this summer please click here.
URL:https://antiparos.com/event/cine-oliaros-easy-rider-1969/
CATEGORIES:Cinema
ATTACH;FMTTYPE=image/jpeg:https://antiparos.com/wp-content/uploads/2017/06/main.jpg
END:VEVENT
BEGIN:VEVENT
DTSTART;TZID=Europe/Moscow:20170805T223000
DTEND;TZID=Europe/Moscow:20170805T223000
DTSTAMP:20260421T185928
CREATED:20170801T102322Z
LAST-MODIFIED:20170801T102322Z
UID:30135-1501972200-1501972200@antiparos.com
SUMMARY:CINE OLIAROS: Frida (2002)
DESCRIPTION:Today’s Movie: CINE OLIAROS: Frida (2002) \nMovie screening starts at 22:30 and entrance is free. \n\n\n\n\nIn general most movies are in English with Greek subtitles. \nFor all Antiparos events this summer please click here.
URL:https://antiparos.com/event/cine-oliaros-frida-2002/
CATEGORIES:Cinema
ATTACH;FMTTYPE=image/jpeg:https://antiparos.com/wp-content/uploads/2017/06/main.jpg
END:VEVENT
BEGIN:VEVENT
DTSTART;TZID=Europe/Moscow:20170804T223000
DTEND;TZID=Europe/Moscow:20170804T223000
DTSTAMP:20260421T185928
CREATED:20170801T102211Z
LAST-MODIFIED:20170801T102211Z
UID:30133-1501885800-1501885800@antiparos.com
SUMMARY:CINE OLIAROS: Little Miss Sunshine (2006)
DESCRIPTION:Today’s Movie: CINE OLIAROS: Little Miss Sunshine (2006) \nMovie screening starts at 22:30 and entrance is free. \n\n\n\n\nIn general most movies are in English with Greek subtitles. \nFor all Antiparos events this summer please click here.
URL:https://antiparos.com/event/cine-oliaros-little-miss-sunshine-2006/
CATEGORIES:Cinema
ATTACH;FMTTYPE=image/jpeg:https://antiparos.com/wp-content/uploads/2017/06/main.jpg
END:VEVENT
BEGIN:VEVENT
DTSTART;TZID=Europe/Moscow:20170803T223000
DTEND;TZID=Europe/Moscow:20170803T223000
DTSTAMP:20260421T185928
CREATED:20170801T102050Z
LAST-MODIFIED:20170801T102050Z
UID:30131-1501799400-1501799400@antiparos.com
SUMMARY:CINE OLIAROS: Dying from Laughter\, a documentary by Stelios Kouloglou (2017)
DESCRIPTION:Today’s Movie: CINE OLIAROS: Dying from Laughter\, a documentary by Stelios Kouloglou (2017) \nMovie screening starts at 22:30 and entrance is free. \n\n\n\n\nIn general most movies are in English with Greek subtitles. \nFor all Antiparos events this summer please click here.
URL:https://antiparos.com/event/cine-oliaros-dying-from-laughter-a-documentary-by-stelios-kouloglou-2017/
CATEGORIES:Cinema
ATTACH;FMTTYPE=image/jpeg:https://antiparos.com/wp-content/uploads/2017/06/main.jpg
END:VEVENT
BEGIN:VEVENT
DTSTART;TZID=Europe/Moscow:20170802T223000
DTEND;TZID=Europe/Moscow:20170802T223000
DTSTAMP:20260421T185928
CREATED:20170801T101901Z
LAST-MODIFIED:20190411T002606Z
UID:30128-1501713000-1501713000@antiparos.com
SUMMARY:CINE OLIAROS: Stranger than fiction (2006)
DESCRIPTION:Today’s Movie: CINE OLIAROS: Stranger than fiction (2006) \nMovie screening starts at 22:30 and entrance is free. \n\n\n\n\nIn general most movies are in English with Greek subtitles. \nFor all Antiparos events this summer please click here.
URL:https://antiparos.com/event/cine-oliaros-stranger-than-fiction-2006/
LOCATION:CINE OLIAROS
CATEGORIES:Cinema
ATTACH;FMTTYPE=image/jpeg:https://antiparos.com/wp-content/uploads/2017/06/main.jpg
END:VEVENT
BEGIN:VEVENT
DTSTART;TZID=Europe/Moscow:20170801T223000
DTEND;TZID=Europe/Moscow:20170801T223000
DTSTAMP:20260421T185928
CREATED:20170801T101736Z
LAST-MODIFIED:20170801T101736Z
UID:30126-1501626600-1501626600@antiparos.com
SUMMARY:CINE OLIAROS: Stand by me (1986)
DESCRIPTION:Today’s Movie: CINE OLIAROS: Stand by me (1986) \nMovie screening starts at 22:30 and entrance is free. \n\n\n\n\nIn general most movies are in English with Greek subtitles. \nFor all Antiparos events this summer please click here.
URL:https://antiparos.com/event/cine-oliaros-stand-by-me-1986/
CATEGORIES:Cinema
ATTACH;FMTTYPE=image/jpeg:https://antiparos.com/wp-content/uploads/2017/06/main.jpg
END:VEVENT
BEGIN:VEVENT
DTSTART;TZID=Europe/Moscow:20170731T213000
DTEND;TZID=Europe/Moscow:20170731T213000
DTSTAMP:20260421T185928
CREATED:20170724T222819Z
LAST-MODIFIED:20170730T125914Z
UID:30084-1501536600-1501536600@antiparos.com
SUMMARY:CINE OLIAROS: Short movie festival II
DESCRIPTION:Today’s Movie: CINE OLIAROS: Short movie festival II \nMovie screening starts at 21:30 and entrance is free. \n\n\n\n\nIn general most movies are in English with Greek subtitles. \nFor all Antiparos events this summer please click here.
URL:https://antiparos.com/event/cine-oliaros-short-movie-festival-ii/
CATEGORIES:Cinema
ATTACH;FMTTYPE=image/jpeg:https://antiparos.com/wp-content/uploads/2017/06/main.jpg
END:VEVENT
BEGIN:VEVENT
DTSTART;TZID=Europe/Moscow:20170729T213000
DTEND;TZID=Europe/Moscow:20170729T213000
DTSTAMP:20260421T185928
CREATED:20170724T222627Z
LAST-MODIFIED:20190227T123833Z
UID:30082-1501363800-1501363800@antiparos.com
SUMMARY:CINE OLIAROS: Short movie festival I
DESCRIPTION:Today’s Movie: CINE OLIAROS: Short movie festival I \nMovie screening starts at 21:30 and entrance is free. \n\n\n\n\nIn general most movies are in English with Greek subtitles. \nFor all Antiparos events this summer please click here.
URL:https://antiparos.com/event/cine-oliaros-short-movie-festival-i/
LOCATION:CINE OLIAROS
CATEGORIES:Cinema
ATTACH;FMTTYPE=image/jpeg:https://antiparos.com/wp-content/uploads/2017/06/main.jpg
END:VEVENT
BEGIN:VEVENT
DTSTART;TZID=Europe/Moscow:20170728T223000
DTEND;TZID=Europe/Moscow:20170728T223000
DTSTAMP:20260421T185928
CREATED:20170724T222433Z
LAST-MODIFIED:20170724T222433Z
UID:30080-1501281000-1501281000@antiparos.com
SUMMARY:CINE OLIAROS: Talk to her (2002)
DESCRIPTION:Today’s Movie: CINE OLIAROS: Talk to her (2002) \nMovie screening starts at 22:30 and entrance is free. \n\n\n\n\nIn general most movies are in English with Greek subtitles. \nFor all Antiparos events this summer please click here.
URL:https://antiparos.com/event/cine-oliaros-talk-to-her-2002/
CATEGORIES:Cinema
ATTACH;FMTTYPE=image/jpeg:https://antiparos.com/wp-content/uploads/2017/06/main.jpg
END:VEVENT
BEGIN:VEVENT
DTSTART;TZID=Europe/Moscow:20170727T223000
DTEND;TZID=Europe/Moscow:20170727T223000
DTSTAMP:20260421T185928
CREATED:20170724T222230Z
LAST-MODIFIED:20170724T222230Z
UID:30078-1501194600-1501194600@antiparos.com
SUMMARY:CINE OLIAROS: Rain man (1988)
DESCRIPTION:Today’s Movie: CINE OLIAROS: Rain man (1988) \nMovie screening starts at 22:30 and entrance is free. \n\n\n\n\nIn general most movies are in English with Greek subtitles. \nFor all Antiparos events this summer please click here.
URL:https://antiparos.com/event/cine-oliaros-rain-man-1988/
CATEGORIES:Cinema
ATTACH;FMTTYPE=image/jpeg:https://antiparos.com/wp-content/uploads/2017/06/main.jpg
END:VEVENT
BEGIN:VEVENT
DTSTART;TZID=Europe/Moscow:20170726T223000
DTEND;TZID=Europe/Moscow:20170726T223000
DTSTAMP:20260421T185928
CREATED:20170724T222021Z
LAST-MODIFIED:20170724T222021Z
UID:30076-1501108200-1501108200@antiparos.com
SUMMARY:CINE OLIAROS: Grease (1978)
DESCRIPTION:Today’s Movie: CINE OLIAROS: Grease (1978) \nMovie screening starts at 22:30 and entrance is free. \n\n\n\n\nIn general most movies are in English with Greek subtitles. \nFor all Antiparos events this summer please click here.
URL:https://antiparos.com/event/cine-oliaros-grease-1978/
CATEGORIES:Cinema
ATTACH;FMTTYPE=image/jpeg:https://antiparos.com/wp-content/uploads/2017/06/main.jpg
END:VEVENT
BEGIN:VEVENT
DTSTART;TZID=Europe/Moscow:20170725T223000
DTEND;TZID=Europe/Moscow:20170725T223000
DTSTAMP:20260421T185928
CREATED:20170724T221804Z
LAST-MODIFIED:20170724T221804Z
UID:30073-1501021800-1501021800@antiparos.com
SUMMARY:CINE OLIAROS: Dead Poets Society (1989)
DESCRIPTION:Today’s Movie: CINE OLIAROS: Dead Poets Society (1989) \nMovie screening starts at 22:30 and entrance is free. \n\n\n\n\nIn general most movies are in English with Greek subtitles. \nFor all Antiparos events this summer please click here.
URL:https://antiparos.com/event/cine-oliaros-dead-poets-society-1989/
CATEGORIES:Cinema
ATTACH;FMTTYPE=image/jpeg:https://antiparos.com/wp-content/uploads/2017/06/main.jpg
END:VEVENT
BEGIN:VEVENT
DTSTART;TZID=Europe/Moscow:20170724T210000
DTEND;TZID=Europe/Moscow:20170724T210000
DTSTAMP:20260421T185928
CREATED:20170630T104522Z
LAST-MODIFIED:20170630T104522Z
UID:29688-1500930000-1500930000@antiparos.com
SUMMARY:Antiparos Cinema Days 2017: Day 4
DESCRIPTION:The 4th iteration of Antiparos Cinema Days 2017 is returning on the island for the 4th consecutive year. \nThe 4-day event will take place at Cine Oliaros from the 21st until the 24th of July. The first and the last days are dedicated to shot films while 2 feature movies will be shown on each of the other 2 days. \nAll movies are in Greek with English subtitles. (All except one movie that is in Italian with Greek subtitles.) \nEntrance is free for all. \n\n\n\n\nYou can see below the event schedule in Greek and in English. \nΠΡΟΓΡΑΜΜΑ ΠΡΟΒΟΛΩΝ \nΔΕΥΤΕΡΑ 24 ΙΟΥΛΙΟΥ Cine Oliaros \nΠροβολή ταινιών μικρού μήκους / Short Films Selection 21.00 \n\nΚύβος του Αλέξανδρου Σκούρα / Cube by Alexandros Skouras 24’\, 2016\nHiwa της Ζακλίν Λέντζου / Hiwa by Jacqueline Lentzou 11’\, 2017\nΝηπενθές του Γιάννη Συμβώνη / Nipenthes by Yannis Simvonis 14’\, 2016\nΈρικ των Φαίδωνα Γκρέτσικου & Πάνου Τράγου / Eric by Faidon Gkretsikos & Panos Tragos 26’\, 2016\nΗ Χέλγκα είναι στο Λουντ της Θέλγιας Πετράκη / Helga is in Lund by Thelyia Petraki 20’\, 2016\n4.1 Miles της Δάφνης Ματζιαράκη / 4.1 Miles by Daphne Matziaraki 26’\, 2016\n\ninfo \n\nΌλες οι προβολές είναι με ελεύθερη είσοδο\, στην ελληνική γλώσσα και με αγγλικούς υπότιτλους.\n*Στην ιταλική γλώσσα με ελληνικούς υπότιτλους.\nΗ δήλωση συμμετοχής στα εργαστήρια από μαθητές Γυμνασίου – Λυκείου είναι απαραίτητη μέχρι τις 10 Ιουλίου. Θα τηρηθεί σειρά προτεραιότητας.\nΓια να δηλώσετε συμμετοχή απευθυνθείτε στο sofia[@]onefromtheheart[.]gr\nή στο τηλέφωνο 6947 639724.\nΗ συμμετοχή στα εργαστήρια και η παρακολούθηση των προβολών είναι δωρεάν.
URL:https://antiparos.com/event/antiparos-cinema-days-2017-day-4/
LOCATION:CINE OLIAROS
CATEGORIES:Cinema
ATTACH;FMTTYPE=image/jpeg:https://antiparos.com/wp-content/uploads/2017/06/c0c70ecc036636795c403bc3c7e4039c.jpg
ORGANIZER;CN="One From The Heart":MAILTO:sofia@onefromtheheart.gr
END:VEVENT
BEGIN:VEVENT
DTSTART;TZID=Europe/Moscow:20170723T210000
DTEND;TZID=Europe/Moscow:20170723T210000
DTSTAMP:20260421T185928
CREATED:20170630T104215Z
LAST-MODIFIED:20170630T104322Z
UID:29685-1500843600-1500843600@antiparos.com
SUMMARY:Antiparos Cinema Days 2017: Day 3
DESCRIPTION:The 4th iteration of Antiparos Cinema Days 2017 is returning on the island for the 4th consecutive year. \nThe 4-day event will take place at Cine Oliaros from the 21st until the 24th of July. The first and the last days are dedicated to shot films while 2 feature movies will be shown on each of the other 2 days. \nAll movies are in Greek with English subtitles. (All except one movie that is in Italian with Greek subtitles.) \n\n\n\n\nEntrance is free for all. \nYou can see below the event schedule in Greek and in English. \nΠΡΟΓΡΑΜΜΑ ΠΡΟΒΟΛΩΝ \nΚΥΡΙΑΚΗ 23 ΙΟΥΛΙΟΥ | Cine Oliaros \n\n21.00 The Extra Mile της Βικτώριας Βελλοπούλου / The Extra Mile by Victoria Vellopoulou 74’\, 2016\n22.30 Η Τελευταία Παραλία των Θάνου Αναστόπουλου & Ντάβιντε Ντελ Ντέγκαν / L’Ultima Spiaggia by Thanos Anastopoulos & Davide Del Degan * 119’\, 2016\n\ninfo \n\nΌλες οι προβολές είναι με ελεύθερη είσοδο\, στην ελληνική γλώσσα και με αγγλικούς υπότιτλους.\n*Στην ιταλική γλώσσα με ελληνικούς υπότιτλους.\nΗ δήλωση συμμετοχής στα εργαστήρια από μαθητές Γυμνασίου – Λυκείου είναι απαραίτητη μέχρι τις 10 Ιουλίου. Θα τηρηθεί σειρά προτεραιότητας.\nΓια να δηλώσετε συμμετοχή απευθυνθείτε στο sofia[@]onefromtheheart[.]gr\nή στο τηλέφωνο 6947 639724.\nΗ συμμετοχή στα εργαστήρια και η παρακολούθηση των προβολών είναι δωρεάν.
URL:https://antiparos.com/event/antiparos-cinema-days-2017-day-3/
LOCATION:CINE OLIAROS
CATEGORIES:Cinema
ATTACH;FMTTYPE=image/jpeg:https://antiparos.com/wp-content/uploads/2017/06/c0c70ecc036636795c403bc3c7e4039c.jpg
ORGANIZER;CN="One From The Heart":MAILTO:sofia@onefromtheheart.gr
END:VEVENT
BEGIN:VEVENT
DTSTART;TZID=Europe/Moscow:20170722T210000
DTEND;TZID=Europe/Moscow:20170722T210000
DTSTAMP:20260421T185928
CREATED:20170630T104030Z
LAST-MODIFIED:20170630T104308Z
UID:29681-1500757200-1500757200@antiparos.com
SUMMARY:Antiparos Cinema Days 2017: Day 2
DESCRIPTION:The 4th iteration of Antiparos Cinema Days 2017 is returning on the island for the 4th consecutive year. \nThe 4-day event will take place at Cine Oliaros from the 21st until the 24th of July. The first and the last days are dedicated to shot films while 2 feature movies will be shown on each of the other 2 days. \nAll movies are in Greek with English subtitles. (All except one movie that is in Italian with Greek subtitles.) \n\n\n\n\nEntrance is free for all. \nYou can see below the event schedule in Greek and in English. \nΠΡΟΓΡΑΜΜΑ ΠΡΟΒΟΛΩΝ \nΣΑΒΒΑΤΟ 22 ΙΟΥΛΙΟΥ | Cine Oliaros \n\n21.00 Η Αιώνια Επιστροφή του Αντώνη Παρασκευά της Ελίνας Ψύκου / The Eternal Return of Antonis Paraskevas by Elina Psykou 88’\, 2013\n23.00 Όντως Φιλιούνται; του Γιάννη Κορρέ / Kissing? by Yannis Korres 77’\, 2016\n\ninfo \n\nΌλες οι προβολές είναι με ελεύθερη είσοδο\, στην ελληνική γλώσσα και με αγγλικούς υπότιτλους.\n*Στην ιταλική γλώσσα με ελληνικούς υπότιτλους.\nΗ δήλωση συμμετοχής στα εργαστήρια από μαθητές Γυμνασίου – Λυκείου είναι απαραίτητη μέχρι τις 10 Ιουλίου. Θα τηρηθεί σειρά προτεραιότητας.\nΓια να δηλώσετε συμμετοχή απευθυνθείτε στο sofia[@]onefromtheheart[.]gr\nή στο τηλέφωνο 6947 639724.\nΗ συμμετοχή στα εργαστήρια και η παρακολούθηση των προβολών είναι δωρεάν.
URL:https://antiparos.com/event/antiparos-cinema-days-2017-day-2/
LOCATION:CINE OLIAROS
CATEGORIES:Cinema
ATTACH;FMTTYPE=image/jpeg:https://antiparos.com/wp-content/uploads/2017/06/c0c70ecc036636795c403bc3c7e4039c.jpg
ORGANIZER;CN="One From The Heart":MAILTO:sofia@onefromtheheart.gr
END:VEVENT
BEGIN:VEVENT
DTSTART;TZID=Europe/Moscow:20170721T213000
DTEND;TZID=Europe/Moscow:20170721T213000
DTSTAMP:20260421T185928
CREATED:20170630T103536Z
LAST-MODIFIED:20170630T103906Z
UID:29672-1500672600-1500672600@antiparos.com
SUMMARY:Antiparos Cinema Days 2017: Day 1
DESCRIPTION:The 4th iteration of Antiparos Cinema Days 2017 is returning on the island for the 4th consecutive year. \nThe 4-day event will take place at Cine Oliaros from the 21st until the 24th of July. The first and the last days are dedicated to shot films while 2 feature movies will be shown on each of the other 2 days. \nAll movies are in Greek with English subtitles. (All except one movie that is in Italian with Greek subtitles.) \nEntrance is free for all. \n\n\n\n\nYou can see below the event schedule in Greek and in English. \nΠΡΟΓΡΑΜΜΑ ΠΡΟΒΟΛΩΝ \nΠΑΡΑΣΚΕΥΗ 21 ΙΟΥΛΙΟΥ | Cine Oliaros \nΠροβολή ταινιών μικρού μήκους/ Short Films Selection 21.30 \n\nΑλεπού της Ζακλίν Λέντζου / Fox by Jacqueline Lentzou 28’\, 2016\nΤρου Μπλου του Χάρη Ραφτόγιαννη / True Blue by Haris Raftogiannis 28’\, 2016\nΗ Αλίκη στο Καφέ του Δημήτρη Νάκου / Alice in the Café by Dimitris Nakos 18’\, 2016\nΙ.Χ.Θ.Υ.Σ. του Χρύσανθου Μαργώνη / Young Fish by Chrisanthos Margonis 19’\, 2016\nLimbo της Κωνσταντίνας Κοτζαμάνη / Limbo by Konstantina Kotzamani 29’\, 2016\n\ninfo \n\nΌλες οι προβολές είναι με ελεύθερη είσοδο\, στην ελληνική γλώσσα και με αγγλικούς υπότιτλους.\n*Στην ιταλική γλώσσα με ελληνικούς υπότιτλους.\nΗ δήλωση συμμετοχής στα εργαστήρια από μαθητές Γυμνασίου – Λυκείου είναι απαραίτητη μέχρι τις 10 Ιουλίου. Θα τηρηθεί σειρά προτεραιότητας.\nΓια να δηλώσετε συμμετοχή απευθυνθείτε στο sofia[@]onefromtheheart[.]gr\nή στο τηλέφωνο 6947 639724.\nΗ συμμετοχή στα εργαστήρια και η παρακολούθηση των προβολών είναι δωρεάν.
URL:https://antiparos.com/event/antiparos-cinema-days-2017-day-1/
LOCATION:CINE OLIAROS
CATEGORIES:Cinema
ATTACH;FMTTYPE=image/jpeg:https://antiparos.com/wp-content/uploads/2017/06/c0c70ecc036636795c403bc3c7e4039c.jpg
ORGANIZER;CN="One From The Heart":MAILTO:sofia@onefromtheheart.gr
END:VEVENT
BEGIN:VEVENT
DTSTART;TZID=Europe/Moscow:20170720T223000
DTEND;TZID=Europe/Moscow:20170720T223000
DTSTAMP:20260421T185928
CREATED:20170719T173718Z
LAST-MODIFIED:20190227T123420Z
UID:30044-1500589800-1500589800@antiparos.com
SUMMARY:CINE OLIAROS: Manhattan (1979)
DESCRIPTION:Today’s Movie: CINE OLIAROS: Manhattan (1979) \nMovie screening starts at 22:30 and entrance is free. \n\n\n\n\nIn general most movies are in English with Greek subtitles. \nFor all Antiparos events this summer please click here.
URL:https://antiparos.com/event/cine-oliaros-manhattan-1979/
LOCATION:CINE OLIAROS
CATEGORIES:Cinema
ATTACH;FMTTYPE=image/jpeg:https://antiparos.com/wp-content/uploads/2017/06/main.jpg
END:VEVENT
BEGIN:VEVENT
DTSTART;TZID=Europe/Moscow:20170719T223000
DTEND;TZID=Europe/Moscow:20170719T223000
DTSTAMP:20260421T185928
CREATED:20170719T173607Z
LAST-MODIFIED:20170719T173607Z
UID:30042-1500503400-1500503400@antiparos.com
SUMMARY:CINE OLIAROS: Breakfast at Tifannys (1961)
DESCRIPTION:Today’s Movie: CINE OLIAROS: Breakfast at Tifannys (1961) \nMovie screening starts at 22:30 and entrance is free. \n\n\n\n\nIn general most movies are in English with Greek subtitles. \nFor all Antiparos events this summer please click here.
URL:https://antiparos.com/event/cine-oliaros-breakfast-at-tifannys-1961/
CATEGORIES:Cinema
ATTACH;FMTTYPE=image/jpeg:https://antiparos.com/wp-content/uploads/2017/06/main.jpg
END:VEVENT
BEGIN:VEVENT
DTSTART;TZID=Europe/Moscow:20170718T223000
DTEND;TZID=Europe/Moscow:20170718T223000
DTSTAMP:20260421T185928
CREATED:20170719T173119Z
LAST-MODIFIED:20170719T173119Z
UID:30039-1500417000-1500417000@antiparos.com
SUMMARY:CINE OLIAROS: Big Fish (2003)
DESCRIPTION:Today’s Movie: Big Fish (2003) \nMovie screening starts at 22:30 and entrance is free. \n\n\n\n\nIn general most movies are in English with Greek subtitles. \nFor all Antiparos events this summer please click here.
URL:https://antiparos.com/event/cine-oliaros-big-fish-2003/
CATEGORIES:Cinema
ATTACH;FMTTYPE=image/jpeg:https://antiparos.com/wp-content/uploads/2017/06/main.jpg
END:VEVENT
BEGIN:VEVENT
DTSTART;TZID=Europe/Moscow:20170717T223000
DTEND;TZID=Europe/Moscow:20170717T223000
DTSTAMP:20260421T185928
CREATED:20170719T173006Z
LAST-MODIFIED:20170719T173454Z
UID:30037-1500330600-1500330600@antiparos.com
SUMMARY:CINE OLIAROS: Good Will Hunting (1997)
DESCRIPTION:Today’s Movie: Good Will Hunting (1997) \nMovie screening starts at 22:30 and entrance is free. \n\n\n\n\nIn general most movies are in English with Greek subtitles. \nFor all Antiparos events this summer please click here.
URL:https://antiparos.com/event/cine-oliaros-good-will-hunting-1997/
CATEGORIES:Cinema
ATTACH;FMTTYPE=image/jpeg:https://antiparos.com/wp-content/uploads/2017/06/main.jpg
END:VEVENT
END:VCALENDAR