BEGIN:VCALENDAR
VERSION:2.0
PRODID:-//Antiparos island, Greece - Antiparos.com - ECPv6.13.0//NONSGML v1.0//EN
CALSCALE:GREGORIAN
METHOD:PUBLISH
X-ORIGINAL-URL:https://antiparos.com
X-WR-CALDESC:Events for Antiparos island, Greece - Antiparos.com
REFRESH-INTERVAL;VALUE=DURATION:PT1H
X-Robots-Tag:noindex
X-PUBLISHED-TTL:PT1H
BEGIN:VTIMEZONE
TZID:Europe/Moscow
BEGIN:STANDARD
TZOFFSETFROM:+0300
TZOFFSETTO:+0300
TZNAME:MSK
DTSTART:20170101T000000
END:STANDARD
END:VTIMEZONE
BEGIN:VEVENT
DTSTART;TZID=Europe/Moscow:20170716T223000
DTEND;TZID=Europe/Moscow:20170716T223000
DTSTAMP:20260421T235525
CREATED:20170710T213434Z
LAST-MODIFIED:20170710T213434Z
UID:29824-1500244200-1500244200@antiparos.com
SUMMARY:CINE OLIAROS: Birdy (1984)
DESCRIPTION:Today’s Movie: Birdy (1984) \nMovie screening starts at 22:30 and entrance is free. \n\n\n\n\nIn general most movies are in English with Greek subtitles. \nFor all Antiparos events this summer please click here.
URL:https://antiparos.com/event/cine-oliaros-birdy-1984/
CATEGORIES:Cinema
ATTACH;FMTTYPE=image/jpeg:https://antiparos.com/wp-content/uploads/2017/06/main.jpg
END:VEVENT
BEGIN:VEVENT
DTSTART;TZID=Europe/Moscow:20170715T223000
DTEND;TZID=Europe/Moscow:20170715T223000
DTSTAMP:20260421T235525
CREATED:20170710T213048Z
LAST-MODIFIED:20170710T213308Z
UID:29819-1500157800-1500157800@antiparos.com
SUMMARY:CINE OLIAROS: Mamma Mia! (2008)
DESCRIPTION:Today’s Movie: Mamma Mia! (2008) \nMovie screening starts at 22:30 and entrance is free. \n\n\n\n\nIn general most movies are in English with Greek subtitles. \nFor all Antiparos events this summer please click here.
URL:https://antiparos.com/event/cine-oliaros-mamma-mia-2008-2/
CATEGORIES:Cinema
ATTACH;FMTTYPE=image/jpeg:https://antiparos.com/wp-content/uploads/2017/06/main.jpg
END:VEVENT
BEGIN:VEVENT
DTSTART;TZID=Europe/Moscow:20170714T223000
DTEND;TZID=Europe/Moscow:20170714T223000
DTSTAMP:20260421T235525
CREATED:20170710T213014Z
LAST-MODIFIED:20190227T123726Z
UID:29817-1500071400-1500071400@antiparos.com
SUMMARY:CINE OLIAROS: Mamma Mia! (2008)
DESCRIPTION:Today’s Movie: Mamma Mia! (2008) \nMovie screening starts at 22:30 and entrance is free. \n\n\n\n\nIn general most movies are in English with Greek subtitles. \nFor all Antiparos events this summer please click here.
URL:https://antiparos.com/event/cine-oliaros-mamma-mia-2008/
LOCATION:CINE OLIAROS
CATEGORIES:Cinema
ATTACH;FMTTYPE=image/jpeg:https://antiparos.com/wp-content/uploads/2017/06/main.jpg
END:VEVENT
BEGIN:VEVENT
DTSTART;TZID=Europe/Moscow:20170713T223000
DTEND;TZID=Europe/Moscow:20170713T223000
DTSTAMP:20260421T235525
CREATED:20170710T212929Z
LAST-MODIFIED:20170710T212929Z
UID:29815-1499985000-1499985000@antiparos.com
SUMMARY:CINE OLIAROS: The Boat That Rocked (2009)
DESCRIPTION:Today’s Movie: The Boat That Rocked (2009) \nMovie screening starts at 22:30 and entrance is free. \n\n\n\n\nIn general most movies are in English with Greek subtitles. \nFor all Antiparos events this summer please click here. \n 
URL:https://antiparos.com/event/cine-oliaros-the-boat-that-rocked-2009/
CATEGORIES:Cinema
ATTACH;FMTTYPE=image/jpeg:https://antiparos.com/wp-content/uploads/2017/06/main.jpg
END:VEVENT
BEGIN:VEVENT
DTSTART;TZID=Europe/Moscow:20170712T223000
DTEND;TZID=Europe/Moscow:20170712T223000
DTSTAMP:20260421T235525
CREATED:20170710T212838Z
LAST-MODIFIED:20170710T212838Z
UID:29813-1499898600-1499898600@antiparos.com
SUMMARY:CINE OLIAROS: Moonrise Kingdom (2012)
DESCRIPTION:Today’s Movie: Moonrise Kingdom (2012) \nMovie screening starts at 22:30 and entrance is free. \n\n\n\n\nIn general most movies are in English with Greek subtitles. \nFor all Antiparos events this summer please click here. \n 
URL:https://antiparos.com/event/cine-oliaros-moonrise-kingdom-2012/
CATEGORIES:Cinema
ATTACH;FMTTYPE=image/jpeg:https://antiparos.com/wp-content/uploads/2017/06/main.jpg
END:VEVENT
BEGIN:VEVENT
DTSTART;TZID=Europe/Moscow:20170711T223000
DTEND;TZID=Europe/Moscow:20170711T223000
DTSTAMP:20260421T235525
CREATED:20170710T212746Z
LAST-MODIFIED:20170710T212746Z
UID:29811-1499812200-1499812200@antiparos.com
SUMMARY:CINE OLIAROS: The Talented Mr. Ripley (1999)
DESCRIPTION:Today’s Movie: The Talented Mr. Ripley (1999) \nMovie screening starts at 22:30 and entrance is free. \n\n\n\n\nIn general most movies are in English with Greek subtitles. \nFor all Antiparos events this summer please click here. \n 
URL:https://antiparos.com/event/cine-oliaros-the-talented-mr-ripley-1999/
CATEGORIES:Cinema
ATTACH;FMTTYPE=image/jpeg:https://antiparos.com/wp-content/uploads/2017/06/main.jpg
END:VEVENT
BEGIN:VEVENT
DTSTART;TZID=Europe/Moscow:20170710T223000
DTEND;TZID=Europe/Moscow:20170710T223000
DTSTAMP:20260421T235525
CREATED:20170710T212309Z
LAST-MODIFIED:20170710T212320Z
UID:29802-1499725800-1499725800@antiparos.com
SUMMARY:CINE OLIAROS: The King's Speech (2010)
DESCRIPTION:Today’s Movie: The King’s Speech (2010) \nMovie screening starts at 22:30 and entrance is free. \n\n\n\n\nIn general most movies are in English with Greek subtitles. \nFor all Antiparos events this summer please click here. \n 
URL:https://antiparos.com/event/cine-oliaros-the-apartment-1960-2/
CATEGORIES:Cinema
ATTACH;FMTTYPE=image/jpeg:https://antiparos.com/wp-content/uploads/2017/06/main.jpg
END:VEVENT
BEGIN:VEVENT
DTSTART;TZID=Europe/Moscow:20170708T223000
DTEND;TZID=Europe/Moscow:20170708T223000
DTSTAMP:20260421T235525
CREATED:20170707T184023Z
LAST-MODIFIED:20190227T123713Z
UID:29712-1499553000-1499553000@antiparos.com
SUMMARY:CINE OLIAROS: The Apartment (1960)
DESCRIPTION:Today’s Movie: The Apartment (1960) \nMovie screening starts at 22:30 and entrance is free. \n\n\n\n\nIn general most movies are in English with Greek subtitles. \nFor all Antiparos events this summer please see here.
URL:https://antiparos.com/event/cine-oliaros-the-apartment-1960/
LOCATION:CINE OLIAROS
CATEGORIES:Cinema
ATTACH;FMTTYPE=image/jpeg:https://antiparos.com/wp-content/uploads/2017/06/main.jpg
END:VEVENT
BEGIN:VEVENT
DTSTART;TZID=Europe/Moscow:20170707T223000
DTEND;TZID=Europe/Moscow:20170707T223000
DTSTAMP:20260421T235525
CREATED:20170707T183943Z
LAST-MODIFIED:20210114T140127Z
UID:29710-1499466600-1499466600@antiparos.com
SUMMARY:CINE OLIAROS: Rumble Fist (1983)
DESCRIPTION:Today’s Movie: Rumble Fist (1983) \nMovie screening starts at 22:30 and entrance is free. \n\n\n\n\nIn general most movies are in English with Greek subtitles. \nFor all Antiparos events this summer please see here.
URL:https://antiparos.com/event/cine-oliaros-rumble-fist-1983/
LOCATION:CINE OLIAROS
CATEGORIES:Cinema
ATTACH;FMTTYPE=image/jpeg:https://antiparos.com/wp-content/uploads/2017/06/main.jpg
END:VEVENT
BEGIN:VEVENT
DTSTART;TZID=Europe/Moscow:20170706T223000
DTEND;TZID=Europe/Moscow:20170706T223000
DTSTAMP:20260421T235525
CREATED:20170707T183902Z
LAST-MODIFIED:20190411T002554Z
UID:29708-1499380200-1499380200@antiparos.com
SUMMARY:CINE OLIAROS: Mr. Nobody (2009)
DESCRIPTION:Today’s Movie: Mr. Nobody (2009) \nMovie screening starts at 22:30 and entrance is free. \n\n\n\n\nIn general most movies are in English with Greek subtitles. \nFor all Antiparos events this summer please see here.
URL:https://antiparos.com/event/cine-oliaros-mr-nobody-2009/
LOCATION:CINE OLIAROS
CATEGORIES:Cinema
ATTACH;FMTTYPE=image/jpeg:https://antiparos.com/wp-content/uploads/2017/06/main.jpg
END:VEVENT
BEGIN:VEVENT
DTSTART;TZID=Europe/Moscow:20170705T223000
DTEND;TZID=Europe/Moscow:20170705T223000
DTSTAMP:20260421T235525
CREATED:20170707T183818Z
LAST-MODIFIED:20170710T212514Z
UID:29706-1499293800-1499293800@antiparos.com
SUMMARY:CINE OLIAROS: Seeking a friend for the end of the world (2012)
DESCRIPTION:Today’s Movie: Seeking a friend for the end of the world (2012) \nMovie screening starts at 22:30 and entrance is free. \n\n\n\n\nIn general most movies are in English with Greek subtitles. \nFor all Antiparos events this summer please see here.
URL:https://antiparos.com/event/cine-oliaros-seeking-a-friend-for-the-end-of-the-world-2012/
CATEGORIES:Cinema
ATTACH;FMTTYPE=image/jpeg:https://antiparos.com/wp-content/uploads/2017/06/main.jpg
END:VEVENT
BEGIN:VEVENT
DTSTART;TZID=Europe/Moscow:20170704T223000
DTEND;TZID=Europe/Moscow:20170704T223000
DTSTAMP:20260421T235525
CREATED:20170707T183439Z
LAST-MODIFIED:20170710T212527Z
UID:29701-1499207400-1499207400@antiparos.com
SUMMARY:CINE OLIAROS: The Birds (1963)
DESCRIPTION:Today’s Movie: The Birds (1963) \nMovie screening starts at 22:30 and entrance is free. \n\n\n\n\nIn general most movies are in English with Greek subtitles. \nFor all Antiparos events this summer please see here.
URL:https://antiparos.com/event/cine-oliaros-the-birds-1963/
CATEGORIES:Cinema
ATTACH;FMTTYPE=image/jpeg:https://antiparos.com/wp-content/uploads/2017/06/main.jpg
END:VEVENT
BEGIN:VEVENT
DTSTART;TZID=Europe/Moscow:20170703T223000
DTEND;TZID=Europe/Moscow:20170703T223000
DTSTAMP:20260421T235525
CREATED:20170707T183219Z
LAST-MODIFIED:20170710T212541Z
UID:29699-1499121000-1499121000@antiparos.com
SUMMARY:CINE OLIAROS: The Notebook (2004)
DESCRIPTION:Today’s Movie: The Notebook (2004) \nMovie screening starts at 22:30 and entrance is free. \n\n\n\n\nIn general most movies are in English with Greek subtitles. \nFor all Antiparos events this summer please see here.
URL:https://antiparos.com/event/cine-oliaros-the-notebook-2004/
CATEGORIES:Cinema
ATTACH;FMTTYPE=image/jpeg:https://antiparos.com/wp-content/uploads/2017/06/main.jpg
END:VEVENT
BEGIN:VEVENT
DTSTART;TZID=Europe/Moscow:20170628T223000
DTEND;TZID=Europe/Moscow:20170628T223000
DTSTAMP:20260421T235525
CREATED:20170627T195901Z
LAST-MODIFIED:20190227T123734Z
UID:29628-1498689000-1498689000@antiparos.com
SUMMARY:CINE OLIAROS: Being There
DESCRIPTION:Today’s Movie: Being There
URL:https://antiparos.com/event/cine-oliaros-being-there/
LOCATION:CINE OLIAROS
CATEGORIES:Cinema
ATTACH;FMTTYPE=image/jpeg:https://antiparos.com/wp-content/uploads/2017/06/main.jpg
END:VEVENT
END:VCALENDAR