BEGIN:VCALENDAR
VERSION:2.0
PRODID:-//Antiparos island, Greece - Antiparos.com - ECPv6.13.0//NONSGML v1.0//EN
CALSCALE:GREGORIAN
METHOD:PUBLISH
X-WR-CALNAME:Antiparos island, Greece - Antiparos.com
X-ORIGINAL-URL:https://antiparos.com
X-WR-CALDESC:Events for Antiparos island, Greece - Antiparos.com
REFRESH-INTERVAL;VALUE=DURATION:PT1H
X-Robots-Tag:noindex
X-PUBLISHED-TTL:PT1H
BEGIN:VTIMEZONE
TZID:Europe/Moscow
BEGIN:STANDARD
TZOFFSETFROM:+0300
TZOFFSETTO:+0300
TZNAME:MSK
DTSTART:20170101T000000
END:STANDARD
END:VTIMEZONE
BEGIN:VEVENT
DTSTART;TZID=Europe/Moscow:20170705T223000
DTEND;TZID=Europe/Moscow:20170705T223000
DTSTAMP:20260422T012702
CREATED:20170707T183818Z
LAST-MODIFIED:20170710T212514Z
UID:29706-1499293800-1499293800@antiparos.com
SUMMARY:CINE OLIAROS: Seeking a friend for the end of the world (2012)
DESCRIPTION:Today’s Movie: Seeking a friend for the end of the world (2012) \nMovie screening starts at 22:30 and entrance is free. \n\n\n\n\nIn general most movies are in English with Greek subtitles. \nFor all Antiparos events this summer please see here.
URL:https://antiparos.com/event/cine-oliaros-seeking-a-friend-for-the-end-of-the-world-2012/
CATEGORIES:Cinema
ATTACH;FMTTYPE=image/jpeg:https://antiparos.com/wp-content/uploads/2017/06/main.jpg
END:VEVENT
BEGIN:VEVENT
DTSTART;TZID=Europe/Moscow:20170704T223000
DTEND;TZID=Europe/Moscow:20170704T223000
DTSTAMP:20260422T012702
CREATED:20170707T183439Z
LAST-MODIFIED:20170710T212527Z
UID:29701-1499207400-1499207400@antiparos.com
SUMMARY:CINE OLIAROS: The Birds (1963)
DESCRIPTION:Today’s Movie: The Birds (1963) \nMovie screening starts at 22:30 and entrance is free. \n\n\n\n\nIn general most movies are in English with Greek subtitles. \nFor all Antiparos events this summer please see here.
URL:https://antiparos.com/event/cine-oliaros-the-birds-1963/
CATEGORIES:Cinema
ATTACH;FMTTYPE=image/jpeg:https://antiparos.com/wp-content/uploads/2017/06/main.jpg
END:VEVENT
BEGIN:VEVENT
DTSTART;TZID=Europe/Moscow:20170703T223000
DTEND;TZID=Europe/Moscow:20170703T223000
DTSTAMP:20260422T012702
CREATED:20170707T183219Z
LAST-MODIFIED:20170710T212541Z
UID:29699-1499121000-1499121000@antiparos.com
SUMMARY:CINE OLIAROS: The Notebook (2004)
DESCRIPTION:Today’s Movie: The Notebook (2004) \nMovie screening starts at 22:30 and entrance is free. \n\n\n\n\nIn general most movies are in English with Greek subtitles. \nFor all Antiparos events this summer please see here.
URL:https://antiparos.com/event/cine-oliaros-the-notebook-2004/
CATEGORIES:Cinema
ATTACH;FMTTYPE=image/jpeg:https://antiparos.com/wp-content/uploads/2017/06/main.jpg
END:VEVENT
BEGIN:VEVENT
DTSTART;TZID=Europe/Moscow:20170628T223000
DTEND;TZID=Europe/Moscow:20170628T223000
DTSTAMP:20260422T012703
CREATED:20170627T195901Z
LAST-MODIFIED:20190227T123734Z
UID:29628-1498689000-1498689000@antiparos.com
SUMMARY:CINE OLIAROS: Being There
DESCRIPTION:Today’s Movie: Being There
URL:https://antiparos.com/event/cine-oliaros-being-there/
LOCATION:CINE OLIAROS
CATEGORIES:Cinema
ATTACH;FMTTYPE=image/jpeg:https://antiparos.com/wp-content/uploads/2017/06/main.jpg
END:VEVENT
END:VCALENDAR