BEGIN:VCALENDAR
VERSION:2.0
PRODID:-//Antiparos island, Greece - Antiparos.com - ECPv6.13.0//NONSGML v1.0//EN
CALSCALE:GREGORIAN
METHOD:PUBLISH
X-ORIGINAL-URL:https://antiparos.com
X-WR-CALDESC:Events for Antiparos island, Greece - Antiparos.com
REFRESH-INTERVAL;VALUE=DURATION:PT1H
X-Robots-Tag:noindex
X-PUBLISHED-TTL:PT1H
BEGIN:VTIMEZONE
TZID:Europe/Moscow
BEGIN:STANDARD
TZOFFSETFROM:+0300
TZOFFSETTO:+0300
TZNAME:MSK
DTSTART:20180101T000000
END:STANDARD
END:VTIMEZONE
BEGIN:VEVENT
DTSTART;TZID=Europe/Moscow:20240727T093000
DTEND;TZID=Europe/Moscow:20240727T130000
DTSTAMP:20260423T141655
CREATED:20240709T131240Z
LAST-MODIFIED:20240713T090952Z
UID:35247-1722072600-1722085200@antiparos.com
SUMMARY:Visit to Despotiko island on July 27th\, 2024
DESCRIPTION:A visit to the temple of Apollo at Despotiko island is going to take place on July 27th\, 2024\, with the archaeologist in charge of the excavations\, Yannos Kourayios. \nThe meeting point is at Agios Georgios\, Antiparos at 9.30 a.m. \n\n\n\n\nCost is ~20 euros\, including the crossing by boat from Agios Georgios to Despotiko island. \nThe visit is organized by the Friends of Paros and Antiparos. \nTime: 9.30 a.m. – 1.00 p.m.
URL:https://antiparos.com/event/visit-to-despotiko-island-on-july-27th-2024/
LOCATION:Despotiko island
CATEGORIES:History
END:VEVENT
BEGIN:VEVENT
DTSTART;TZID=Europe/Moscow:20190921T104500
DTEND;TZID=Europe/Moscow:20190921T130000
DTSTAMP:20260423T141655
CREATED:20190920T135206Z
LAST-MODIFIED:20190920T135206Z
UID:32494-1569062700-1569070800@antiparos.com
SUMMARY:Guided tour of the Apollo temple of Despotiko 2019
DESCRIPTION:There will be a guided tour\, in English and Greek\, of the Apollo temple of Despotiko to acknowledge the progress of the restoration work. \nThe tour is organized by the Friends of Paros. \n\n\n\n\nThe restoration work is partly supported by the Friends of Paros association. \nVisit to Despotiko meeting point: 10.45 am\, at the small port of Agios Georgios on Antiparos. \nThe visit at the site of Despotiko will be guided by the archaeologists working at Despotiko and the Apollo temple. (Yannos Kourayos) \n\nThe contribution of this visit is 20€ (which includes the cost of the Agios Georgios – Despotiko crossing by boat).\nThe presentation of the site by the archaeologist will be in English and Greek.\nThe boat for Despotiko where the temple is located will leave at 10:45 am. Please try to take the boat on time from Paros to Antiparos.
URL:https://antiparos.com/event/guided-tour-of-the-apollo-templeof-despotiko-2019-2/
LOCATION:Despotiko island
CATEGORIES:History
ATTACH;FMTTYPE=image/jpeg:https://antiparos.com/wp-content/uploads/2019/08/despotiko-2019-06.jpg
END:VEVENT
BEGIN:VEVENT
DTSTART;TZID=Europe/Moscow:20190727T103000
DTEND;TZID=Europe/Moscow:20190727T123000
DTSTAMP:20260423T141655
CREATED:20190703T103306Z
LAST-MODIFIED:20190726T003047Z
UID:32353-1564223400-1564230600@antiparos.com
SUMMARY:Guided tour of the Apollo temple of Despotiko 2019
DESCRIPTION:Guided tour of the Friends of Paros\, in English and Greek\, of the Apollo temple of Despotiko to acknowledge the progress of the restoration work. \nThe restoration work is partly supported by the Friends of Paros association. \n\n\n\n\nVisit to Despotiko meeting point: 10.15 am\, at the small port of Agios Georgios on Antiparos. \nThe visit at the site of Despotiko will be with the archaeologist Yannos Kourayos. \n\nThe contribution of this visit is 20€ (which includes the cost of the Agios Georgios – Despotiko crossing).\nThe presentation of the site by the archaeologist will be in English and Greek.\nThe boat for Despotiko where the temple is located will leave at 10:30 am. Please try to take the boat on time from Paros to Antiparos.
URL:https://antiparos.com/event/guided-tour-of-the-apollo-templeof-despotiko-2019/
LOCATION:Despotiko island
CATEGORIES:History
ATTACH;FMTTYPE=image/jpeg:https://antiparos.com/wp-content/uploads/2017/10/21762096_1595433680546829_7184168478359810760_n.jpg
END:VEVENT
BEGIN:VEVENT
DTSTART;TZID=Europe/Moscow:20190704T203000
DTEND;TZID=Europe/Moscow:20190704T223000
DTSTAMP:20260423T141655
CREATED:20190702T113345Z
LAST-MODIFIED:20190702T113727Z
UID:32334-1562272200-1562279400@antiparos.com
SUMMARY:Despotiko and Tsimintiri 2019
DESCRIPTION:Despotiko and Tsimintiri 2019 \n\n\n\n\nThe course of restoration and excavation projects.\nPresentation by archaeologist Yannos Kourayos.
URL:https://antiparos.com/event/despotiko-and-tsimintiri-2019/
LOCATION:Antiparos Castle (Kastro)
CATEGORIES:History
ATTACH;FMTTYPE=image/jpeg:https://antiparos.com/wp-content/uploads/2019/07/despotiko-tsimintiri-2019.jpg
END:VEVENT
BEGIN:VEVENT
DTSTART;TZID=Europe/Moscow:20180915T090000
DTEND;TZID=Europe/Moscow:20180915T203000
DTSTAMP:20260423T141655
CREATED:20180912T105952Z
LAST-MODIFIED:20180912T105952Z
UID:31506-1537002000-1537043400@antiparos.com
SUMMARY:One-day scientific archaeological meeting: Monuments and antiquities of Antiparos and its islets
DESCRIPTION:One-day scientific archaeological meeting: Monuments and antiquities of Antiparos and its islets \nSaturday 15-9-2018\, School Complex\, Kaloudas Hall
URL:https://antiparos.com/event/one-day-scientific-archaeological-meeting-monuments-and-antiquities-of-antiparos-and-its-islets/
LOCATION:School Complex\, Kaloudas Hall
CATEGORIES:History
ATTACH;FMTTYPE=image/jpeg:https://antiparos.com/wp-content/uploads/2018/09/monuments-and-antiquities-of-antiparos-and-its-islets.jpg
END:VEVENT
BEGIN:VEVENT
DTSTART;TZID=Europe/Moscow:20180820T091500
DTEND;TZID=Europe/Moscow:20180820T091500
DTSTAMP:20260423T141655
CREATED:20180801T231442Z
LAST-MODIFIED:20180819T214248Z
UID:31304-1534756500-1534756500@antiparos.com
SUMMARY:Visit to Despotiko archaeological site
DESCRIPTION:Visit to Despotiko\, meet us at 9.10 am\, at the port of Agios Georgios on Antiparos\, followed by a glass of friendship at Despotiko itself. \n\n\n\n\nThis is the 3rd visit this summer. The visit at the site of Despotiko will be with the archaeologist Yannos Kourayos. \n\nThe contribution of this visit is 15 € (which includes the cost of the Agios Georgios – Despotiko crossing).\nThe presentation of the site by the archaeologist will be in Greek.\nThe boat for Despotiko where the temple is located will leave at 9:15 am. Please try to take the boat on time from Paros to Antiparos. If necessary\, call 6984495543.
URL:https://antiparos.com/event/visit-to-despotiko-archaeological-site-2/
LOCATION:Despotiko island
CATEGORIES:History
ATTACH;FMTTYPE=image/jpeg:https://antiparos.com/wp-content/uploads/2017/07/MDSC_0038-43.jpg
END:VEVENT
BEGIN:VEVENT
DTSTART;TZID=Europe/Moscow:20180726T183000
DTEND;TZID=Europe/Moscow:20180726T183000
DTSTAMP:20260423T141655
CREATED:20180725T104740Z
LAST-MODIFIED:20180726T102517Z
UID:31236-1532629800-1532629800@antiparos.com
SUMMARY:Visit to Despotiko archaeological site
DESCRIPTION:Visit to Despotiko\, rendezvous at 6 pm\, port of Agios Georgios on Antiparos\, followed by a glass of friendship at Despotiko itself; for those who wish\, diner in Agios Georgios\, during which will be exposed the action “Treasure Hunt” \n\n\n\n\nNew visit at 6:30 pm at the site of Despotiko with the archaeologist Yannos Kourayos\, followed by a drink enlightened by the full moon and for those who wish\, dinner at Agios Georgios\, during which our proposals to support further archaeological heritage renovation activities will be presented to you. \n\nThe contribution of this visit is 15 € (which includes the cost of the Agios Georgios – Despotiko crossing).\nThe presentation of the site by the archaeologist will be in English. If you are interested in a presentation in another language\, please let us know. We will try to organize a third visit after August 19th.\nThe boat for Despotiko where the temple is located will leave at 18:30. Please try to take the boat on time from Paros to Antiparos. If necessary\, call 6984495543.
URL:https://antiparos.com/event/visit-to-despotiko-archaeological-site/
LOCATION:Despotiko island
CATEGORIES:History
ATTACH;FMTTYPE=image/jpeg:https://antiparos.com/wp-content/uploads/2017/07/MDSC_0038-43.jpg
END:VEVENT
END:VCALENDAR